BEGIN:VCALENDAR
VERSION:2.0
PRODID:-//All Inclusive Ministries | A Group for Lesbian, Gay, Bisexual, and Transgender Catholics in Toronto, Canada - ECPv6.15.20//NONSGML v1.0//EN
CALSCALE:GREGORIAN
METHOD:PUBLISH
X-ORIGINAL-URL:https://www.allinclusiveministries.org
X-WR-CALDESC:Events for All Inclusive Ministries | A Group for Lesbian, Gay, Bisexual, and Transgender Catholics in Toronto, Canada
REFRESH-INTERVAL;VALUE=DURATION:PT1H
X-Robots-Tag:noindex
X-PUBLISHED-TTL:PT1H
BEGIN:VTIMEZONE
TZID:America/Toronto
BEGIN:DAYLIGHT
TZOFFSETFROM:-0500
TZOFFSETTO:-0400
TZNAME:EDT
DTSTART:20250309T070000
END:DAYLIGHT
BEGIN:STANDARD
TZOFFSETFROM:-0400
TZOFFSETTO:-0500
TZNAME:EST
DTSTART:20251102T060000
END:STANDARD
BEGIN:DAYLIGHT
TZOFFSETFROM:-0500
TZOFFSETTO:-0400
TZNAME:EDT
DTSTART:20260308T070000
END:DAYLIGHT
BEGIN:STANDARD
TZOFFSETFROM:-0400
TZOFFSETTO:-0500
TZNAME:EST
DTSTART:20261101T060000
END:STANDARD
BEGIN:DAYLIGHT
TZOFFSETFROM:-0500
TZOFFSETTO:-0400
TZNAME:EDT
DTSTART:20270314T070000
END:DAYLIGHT
BEGIN:STANDARD
TZOFFSETFROM:-0400
TZOFFSETTO:-0500
TZNAME:EST
DTSTART:20271107T060000
END:STANDARD
END:VTIMEZONE
BEGIN:VEVENT
DTSTART;TZID=America/Toronto:20260425T190000
DTEND;TZID=America/Toronto:20260425T203000
DTSTAMP:20260423T042117
CREATED:20260320T005343Z
LAST-MODIFIED:20260320T005343Z
UID:13325-1777143600-1777149000@www.allinclusiveministries.org
SUMMARY:April 25: AIM 4th Saturday Mass
DESCRIPTION:AIM hosts the 4th Saturday Mass where everyone can feel free to worship in a supportive environment. The Mass will be at Our Lady of Lourdes Church\, 520 Sherbourne St.\, Toronto\, at 7:00 PM. \nThe Sacrament of Reconciliation (confession) will be available before Mass beginning at 6:30. \nPost-Mass Celebration\nAfter the liturgy\, please join us in Lynch Hall for snacks and fellowship!
URL:https://www.allinclusiveministries.org/aim-event/april-25-aim-4th-saturday-mass/
LOCATION:Our Lady of Lourdes Parish\, 520 Sherbourne Street\, Toronto\, ON\, M4X 1K8
END:VEVENT
END:VCALENDAR