BEGIN:VCALENDAR
VERSION:2.0
PRODID:-//All Inclusive Ministries | A Group for Lesbian, Gay, Bisexual, and Transgender Catholics in Toronto, Canada - ECPv6.15.20//NONSGML v1.0//EN
CALSCALE:GREGORIAN
METHOD:PUBLISH
X-WR-CALNAME:All Inclusive Ministries | A Group for Lesbian, Gay, Bisexual, and Transgender Catholics in Toronto, Canada
X-ORIGINAL-URL:https://www.allinclusiveministries.org
X-WR-CALDESC:Events for All Inclusive Ministries | A Group for Lesbian, Gay, Bisexual, and Transgender Catholics in Toronto, Canada
REFRESH-INTERVAL;VALUE=DURATION:PT1H
X-Robots-Tag:noindex
X-PUBLISHED-TTL:PT1H
BEGIN:VTIMEZONE
TZID:America/Toronto
BEGIN:DAYLIGHT
TZOFFSETFROM:-0500
TZOFFSETTO:-0400
TZNAME:EDT
DTSTART:20240310T070000
END:DAYLIGHT
BEGIN:STANDARD
TZOFFSETFROM:-0400
TZOFFSETTO:-0500
TZNAME:EST
DTSTART:20241103T060000
END:STANDARD
BEGIN:DAYLIGHT
TZOFFSETFROM:-0500
TZOFFSETTO:-0400
TZNAME:EDT
DTSTART:20250309T070000
END:DAYLIGHT
BEGIN:STANDARD
TZOFFSETFROM:-0400
TZOFFSETTO:-0500
TZNAME:EST
DTSTART:20251102T060000
END:STANDARD
BEGIN:DAYLIGHT
TZOFFSETFROM:-0500
TZOFFSETTO:-0400
TZNAME:EDT
DTSTART:20260308T070000
END:DAYLIGHT
BEGIN:STANDARD
TZOFFSETFROM:-0400
TZOFFSETTO:-0500
TZNAME:EST
DTSTART:20261101T060000
END:STANDARD
END:VTIMEZONE
BEGIN:VEVENT
DTSTART;TZID=America/Toronto:20251122T080000
DTEND;TZID=America/Toronto:20251122T170000
DTSTAMP:20260423T111008
CREATED:20250204T010447Z
LAST-MODIFIED:20250204T010447Z
UID:13283-1763798400-1763830800@www.allinclusiveministries.org
SUMMARY:November 22: AIM 4th Saturday Mass
DESCRIPTION:AIM hosts the 4th Saturday Mass where everyone can feel free to worship in a supportive environment. The Mass will be at Our Lady of Lourdes Church\, 520 Sherbourne St.\, Toronto\, at 7:00 PM. \nThe Sacrament of Reconciliation (confession) will be available before Mass beginning at 6:30. \nPost-Mass Celebration\nAfter the liturgy\, please join us in Lynch Hall for snacks and fellowship!
URL:https://www.allinclusiveministries.org/aim-event/november-22-aim-4th-saturday-mass/
LOCATION:Our Lady of Lourdes Parish\, 520 Sherbourne Street\, Toronto\, ON\, M4X 1K8
CATEGORIES:Mass
END:VEVENT
END:VCALENDAR