BEGIN:VCALENDAR
VERSION:2.0
PRODID:-//All Inclusive Ministries | A Group for Lesbian, Gay, Bisexual, and Transgender Catholics in Toronto, Canada - ECPv6.15.20//NONSGML v1.0//EN
CALSCALE:GREGORIAN
METHOD:PUBLISH
X-WR-CALNAME:All Inclusive Ministries | A Group for Lesbian, Gay, Bisexual, and Transgender Catholics in Toronto, Canada
X-ORIGINAL-URL:https://www.allinclusiveministries.org
X-WR-CALDESC:Events for All Inclusive Ministries | A Group for Lesbian, Gay, Bisexual, and Transgender Catholics in Toronto, Canada
REFRESH-INTERVAL;VALUE=DURATION:PT1H
X-Robots-Tag:noindex
X-PUBLISHED-TTL:PT1H
BEGIN:VTIMEZONE
TZID:America/Toronto
BEGIN:DAYLIGHT
TZOFFSETFROM:-0500
TZOFFSETTO:-0400
TZNAME:EDT
DTSTART:20230312T070000
END:DAYLIGHT
BEGIN:STANDARD
TZOFFSETFROM:-0400
TZOFFSETTO:-0500
TZNAME:EST
DTSTART:20231105T060000
END:STANDARD
BEGIN:DAYLIGHT
TZOFFSETFROM:-0500
TZOFFSETTO:-0400
TZNAME:EDT
DTSTART:20240310T070000
END:DAYLIGHT
BEGIN:STANDARD
TZOFFSETFROM:-0400
TZOFFSETTO:-0500
TZNAME:EST
DTSTART:20241103T060000
END:STANDARD
BEGIN:DAYLIGHT
TZOFFSETFROM:-0500
TZOFFSETTO:-0400
TZNAME:EDT
DTSTART:20250309T070000
END:DAYLIGHT
BEGIN:STANDARD
TZOFFSETFROM:-0400
TZOFFSETTO:-0500
TZNAME:EST
DTSTART:20251102T060000
END:STANDARD
END:VTIMEZONE
BEGIN:VEVENT
DTSTART;TZID=America/Toronto:20241228T170000
DTEND;TZID=America/Toronto:20241228T180000
DTSTAMP:20260424T013012
CREATED:20240601T174134Z
LAST-MODIFIED:20241216T124138Z
UID:13240-1735405200-1735408800@www.allinclusiveministries.org
SUMMARY:December 28: AIM Mass and Christmas Potluck
DESCRIPTION:AIM 4th Saturday Mass\nAIM hosts the 4th Saturday Mass where everyone can feel free to worship in a supportive environment. The AIM Monthly Mass will be at Our Lady of Lourdes Church\, 520 Sherbourne St.\, Toronto\, at 5:00 PM. \nPost-Mass Celebration\nDon’t miss our after-mass potluck dinner. It is a great opportunity to talk with each other. 
URL:https://www.allinclusiveministries.org/aim-event/december-28-aim-4th-saturday-mass/
LOCATION:Our Lady of Lourdes Parish\, 520 Sherbourne Street\, Toronto\, ON\, M4X 1K8
CATEGORIES:Mass
END:VEVENT
END:VCALENDAR