BEGIN:VCALENDAR
VERSION:2.0
PRODID:-//All Inclusive Ministries | A Group for Lesbian, Gay, Bisexual, and Transgender Catholics in Toronto, Canada - ECPv6.15.20//NONSGML v1.0//EN
CALSCALE:GREGORIAN
METHOD:PUBLISH
X-WR-CALNAME:All Inclusive Ministries | A Group for Lesbian, Gay, Bisexual, and Transgender Catholics in Toronto, Canada
X-ORIGINAL-URL:https://www.allinclusiveministries.org
X-WR-CALDESC:Events for All Inclusive Ministries | A Group for Lesbian, Gay, Bisexual, and Transgender Catholics in Toronto, Canada
REFRESH-INTERVAL;VALUE=DURATION:PT1H
X-Robots-Tag:noindex
X-PUBLISHED-TTL:PT1H
BEGIN:VTIMEZONE
TZID:America/Toronto
BEGIN:DAYLIGHT
TZOFFSETFROM:-0500
TZOFFSETTO:-0400
TZNAME:EDT
DTSTART:20230312T070000
END:DAYLIGHT
BEGIN:STANDARD
TZOFFSETFROM:-0400
TZOFFSETTO:-0500
TZNAME:EST
DTSTART:20231105T060000
END:STANDARD
BEGIN:DAYLIGHT
TZOFFSETFROM:-0500
TZOFFSETTO:-0400
TZNAME:EDT
DTSTART:20240310T070000
END:DAYLIGHT
BEGIN:STANDARD
TZOFFSETFROM:-0400
TZOFFSETTO:-0500
TZNAME:EST
DTSTART:20241103T060000
END:STANDARD
BEGIN:DAYLIGHT
TZOFFSETFROM:-0500
TZOFFSETTO:-0400
TZNAME:EDT
DTSTART:20250309T070000
END:DAYLIGHT
BEGIN:STANDARD
TZOFFSETFROM:-0400
TZOFFSETTO:-0500
TZNAME:EST
DTSTART:20251102T060000
END:STANDARD
END:VTIMEZONE
BEGIN:VEVENT
DTSTART;TZID=America/Toronto:20240418T140000
DTEND;TZID=America/Toronto:20240418T153000
DTSTAMP:20260424T175826
CREATED:20240329T130606Z
LAST-MODIFIED:20240330T115300Z
UID:13175-1713448800-1713454200@www.allinclusiveministries.org
SUMMARY:April 18: AIM Book "The Words That Remain"
DESCRIPTION:Join us to discuss this fabulous book\, which explores Brazil’s little-known hinterland as well as its urban haunts. This is a sweeping novel of repression\, violence\, and shame\, along with their flip side: survival\, endurance\, and the ultimate triumph of an unforgettable figure on society’s margins. The Words That Remain explores the universal power of the written word and language and how they affect all our relationships. \n“Stênio Gardel’s The Words That Remain is deceptively simple\, heartbreakingly honest\, and a compelling examination of intimacy in relationships that invites the reader to experience queer desire and survival through new perspectives. Bruna Dantas Lobato’s translation brings the text to life\, capturing the yearning for social and personal autonomy through fragmented memories. When love and life fail\, Gardel’s novel reminds us how language can be a form of resilience\, offering us comfort and a path forward.” \nRegister here
URL:https://www.allinclusiveministries.org/aim-event/april-18-aim-book-the-words-that-remain/
LOCATION:ON
CATEGORIES:Books,Fellowship
ATTACH;FMTTYPE=image/jpeg:https://www.allinclusiveministries.org/wp-content/uploads/2024/03/reamin.jpg
END:VEVENT
BEGIN:VEVENT
DTSTART;TZID=America/Toronto:20240427T173000
DTEND;TZID=America/Toronto:20240427T183000
DTSTAMP:20260424T175826
CREATED:20240329T125326Z
LAST-MODIFIED:20240329T125326Z
UID:13173-1714239000-1714242600@www.allinclusiveministries.org
SUMMARY:April 27: AIM Telling Our Stories
DESCRIPTION:Welcome to AIM’s next Telling Our Stories event. This is an opportunity for AIM members to gather together and hear another member’s experience of what it was like growing up LGBTQ+ and catholic\, what struggles they may have had\, how they have arrived at AIM\, and what their life is like now. The speaker for April is Joseph Arsenal. \nLocation: Lynch Hall\, Our Lady of Lourdes. 520 Sherbourne St.\, Toronto
URL:https://www.allinclusiveministries.org/aim-event/april-27-aim-telling-our-stories/
LOCATION:Our Lady of Lourdes Parish\, 520 Sherbourne Street\, Toronto\, ON\, M4X 1K8
CATEGORIES:Fellowship,Meditation
ATTACH;FMTTYPE=image/jpeg:https://www.allinclusiveministries.org/wp-content/uploads/2023/02/dimitar-belchev-41aXLXKrpJI-unsplash-scaled.jpg
END:VEVENT
BEGIN:VEVENT
DTSTART;TZID=America/Toronto:20240427T190000
DTEND;TZID=America/Toronto:20240427T203000
DTSTAMP:20260424T175826
CREATED:20240329T124511Z
LAST-MODIFIED:20240329T124511Z
UID:13171-1714244400-1714249800@www.allinclusiveministries.org
SUMMARY:April 27: AIM 4th Saturday Mass
DESCRIPTION:AIM hosts the 4th Saturday Mass\, where everyone can feel free to worship in a supportive environment. The AIM Monthly Mass will be at Our Lady of Lourdes Church\, 520 Sherbourne St.\, Toronto\, at 7:00 PM. \nPost-Mass Celebration\nDon’t miss our after-mass gathering. It is an excellent opportunity to talk with each other.  \n\nAIM Offertory Collection\nA basket will be placed in the aisle of the church for those who are able and wish to contribute.\nMarch collection plate: $240.00. Thank you. Without you\, none of this would be possible.
URL:https://www.allinclusiveministries.org/aim-event/april-27-aim-4th-saturday-mass/
LOCATION:Our Lady of Lourdes Parish\, 520 Sherbourne Street\, Toronto\, ON\, M4X 1K8
CATEGORIES:Fellowship,Mass
ATTACH;FMTTYPE=image/jpeg:https://www.allinclusiveministries.org/wp-content/uploads/2020/04/Our-Lady-of-Lourdes.jpg
END:VEVENT
END:VCALENDAR