BEGIN:VCALENDAR
VERSION:2.0
PRODID:-//All Inclusive Ministries | A Group for Lesbian, Gay, Bisexual, and Transgender Catholics in Toronto, Canada - ECPv6.15.20//NONSGML v1.0//EN
CALSCALE:GREGORIAN
METHOD:PUBLISH
X-ORIGINAL-URL:https://www.allinclusiveministries.org
X-WR-CALDESC:Events for All Inclusive Ministries | A Group for Lesbian, Gay, Bisexual, and Transgender Catholics in Toronto, Canada
REFRESH-INTERVAL;VALUE=DURATION:PT1H
X-Robots-Tag:noindex
X-PUBLISHED-TTL:PT1H
BEGIN:VTIMEZONE
TZID:America/Toronto
BEGIN:DAYLIGHT
TZOFFSETFROM:-0500
TZOFFSETTO:-0400
TZNAME:EDT
DTSTART:20230312T070000
END:DAYLIGHT
BEGIN:STANDARD
TZOFFSETFROM:-0400
TZOFFSETTO:-0500
TZNAME:EST
DTSTART:20231105T060000
END:STANDARD
BEGIN:DAYLIGHT
TZOFFSETFROM:-0500
TZOFFSETTO:-0400
TZNAME:EDT
DTSTART:20240310T070000
END:DAYLIGHT
BEGIN:STANDARD
TZOFFSETFROM:-0400
TZOFFSETTO:-0500
TZNAME:EST
DTSTART:20241103T060000
END:STANDARD
BEGIN:DAYLIGHT
TZOFFSETFROM:-0500
TZOFFSETTO:-0400
TZNAME:EDT
DTSTART:20250309T070000
END:DAYLIGHT
BEGIN:STANDARD
TZOFFSETFROM:-0400
TZOFFSETTO:-0500
TZNAME:EST
DTSTART:20251102T060000
END:STANDARD
END:VTIMEZONE
BEGIN:VEVENT
DTSTART;TZID=America/Toronto:20240214T170000
DTEND;TZID=America/Toronto:20240214T190000
DTSTAMP:20260424T220108
CREATED:20240203T120721Z
LAST-MODIFIED:20240203T121130Z
UID:13157-1707930000-1707937200@www.allinclusiveministries.org
SUMMARY:February 14: AIM Book - Declaration Fiducia Supplicans on the Pastoral Meaning of Blessings
DESCRIPTION:To read  Fiducia Supplicans click here. \nThis is not a lecture. Please join us to discuss\, ponder\, ask questions\, think\, listen … \nLocation: Toronto School of Theology\, 47 Queen’s Park Cres East M5S 2C3 (south east corner of St Joseph St/Queen’s Park Cres)
URL:https://www.allinclusiveministries.org/aim-event/february-14-aim-book-declaration-fiducia-supplicans-on-the-pastoral-meaning-of-blessings/
LOCATION:Toronto School of Theology\, 47 Queen's Park Cres East\, Toronto\, Ontario\, M5S 2C3\, Canada
CATEGORIES:Books,Fellowship,Pope Francis,Study Group
ATTACH;FMTTYPE=image/jpeg:https://www.allinclusiveministries.org/wp-content/uploads/2024/01/Fiducia-Supplicans-2023-1200x525-1-e1704972229948.jpg
END:VEVENT
BEGIN:VEVENT
DTSTART;TZID=America/Toronto:20240224T173000
DTEND;TZID=America/Toronto:20240224T183000
DTSTAMP:20260424T220108
CREATED:20240203T120306Z
LAST-MODIFIED:20240203T120306Z
UID:13155-1708795800-1708799400@www.allinclusiveministries.org
SUMMARY:February 24: AIM Gospel Reflection
DESCRIPTION:Reading for the 2nd Sunday of Lent (Mark 9.2-10)\nJoin us to learn about the background and context of the Sunday readings with Gordon Davies\, D.Th.\, a biblical scholar and AIM member. With other LGBTQ+ people and our allies\, we will discuss how the readings are important to you. All are welcome. \nLocation: Lynch Hall\, Our Lady of Lourdes Parish\, 520 Sherbourne St.
URL:https://www.allinclusiveministries.org/aim-event/february-24-aim-gospel-reflection/
LOCATION:Our Lady of Lourdes Parish\, 520 Sherbourne Street\, Toronto\, ON\, M4X 1K8
CATEGORIES:Gospel Reflection
ATTACH;FMTTYPE=image/jpeg:https://www.allinclusiveministries.org/wp-content/uploads/2021/02/sand-1.jpg
END:VEVENT
BEGIN:VEVENT
DTSTART;TZID=America/Toronto:20240224T190000
DTEND;TZID=America/Toronto:20240224T203000
DTSTAMP:20260424T220108
CREATED:20240203T115959Z
LAST-MODIFIED:20240203T115959Z
UID:13153-1708801200-1708806600@www.allinclusiveministries.org
SUMMARY:February 24: AIM 4th Saturday Mass
DESCRIPTION:AIM hosts the 4th Saturday Mass where everyone can feel free to worship in a supportive environment. The AIM Monthly Mass will be at Our Lady Of Lourdes Church\, 520 Sherbourne St.\, Toronto\, at 7:00 PM. \nPost-Mass Celebration\nDon’t miss our after-mass gathering. It is a great opportunity to talk with each other.  \nAIM Offertory Collection\nThere will be a basket\, placed in the aisle of the church\, for those who are able and wish to contribute.\nJanuary collection plate: $247. Thank you. Without you\, none of this would be possible.
URL:https://www.allinclusiveministries.org/aim-event/february-24-aim-4th-saturday-mass/
LOCATION:Our Lady of Lourdes Parish\, 520 Sherbourne Street\, Toronto\, ON\, M4X 1K8
CATEGORIES:Mass
ATTACH;FMTTYPE=image/png:https://www.allinclusiveministries.org/wp-content/uploads/2022/12/Capture-decran-le-2022-12-21-a-21.30.42.png
END:VEVENT
END:VCALENDAR