BEGIN:VCALENDAR
VERSION:2.0
PRODID:-//All Inclusive Ministries | A Group for Lesbian, Gay, Bisexual, and Transgender Catholics in Toronto, Canada - ECPv6.15.20//NONSGML v1.0//EN
CALSCALE:GREGORIAN
METHOD:PUBLISH
X-WR-CALNAME:All Inclusive Ministries | A Group for Lesbian, Gay, Bisexual, and Transgender Catholics in Toronto, Canada
X-ORIGINAL-URL:https://www.allinclusiveministries.org
X-WR-CALDESC:Events for All Inclusive Ministries | A Group for Lesbian, Gay, Bisexual, and Transgender Catholics in Toronto, Canada
REFRESH-INTERVAL;VALUE=DURATION:PT1H
X-Robots-Tag:noindex
X-PUBLISHED-TTL:PT1H
BEGIN:VTIMEZONE
TZID:America/Toronto
BEGIN:DAYLIGHT
TZOFFSETFROM:-0500
TZOFFSETTO:-0400
TZNAME:EDT
DTSTART:20230312T070000
END:DAYLIGHT
BEGIN:STANDARD
TZOFFSETFROM:-0400
TZOFFSETTO:-0500
TZNAME:EST
DTSTART:20231105T060000
END:STANDARD
BEGIN:DAYLIGHT
TZOFFSETFROM:-0500
TZOFFSETTO:-0400
TZNAME:EDT
DTSTART:20240310T070000
END:DAYLIGHT
BEGIN:STANDARD
TZOFFSETFROM:-0400
TZOFFSETTO:-0500
TZNAME:EST
DTSTART:20241103T060000
END:STANDARD
BEGIN:DAYLIGHT
TZOFFSETFROM:-0500
TZOFFSETTO:-0400
TZNAME:EDT
DTSTART:20250309T070000
END:DAYLIGHT
BEGIN:STANDARD
TZOFFSETFROM:-0400
TZOFFSETTO:-0500
TZNAME:EST
DTSTART:20251102T060000
END:STANDARD
END:VTIMEZONE
BEGIN:VEVENT
DTSTART;TZID=America/Toronto:20240113T110000
DTEND;TZID=America/Toronto:20240113T120000
DTSTAMP:20260424T215859
CREATED:20240111T113716Z
LAST-MODIFIED:20240111T114718Z
UID:13131-1705143600-1705147200@www.allinclusiveministries.org
SUMMARY:January 13: Nomkhubulwane Africa+: Africa Research Group on Queerness
DESCRIPTION:Retrieval of Africa’s Queer\nMemories\, Values\, and Practices\nThis webinar will explore the relevance of retrieving Africa’s memories of queerness and the implications of such memories for our times.\nThe panellists will look into the implications of queer memories in shaping Africa’s ethical values as they play out in the diverse political and cultural contexts of the continent. In doing this\, a deliberate retrieval of such relational concepts as Ubuntu will show how Africans can birth a more inclusive society. \nWatch live on Facebook January 13\, 2024\, 0- 11:00 AM (US and Canada): https://www.facebook.com/groups/390264079556654/
URL:https://www.allinclusiveministries.org/aim-event/january-13-nomkhubulwane-africa-africa-research-group-on-queerness/
LOCATION:Online
ATTACH;FMTTYPE=image/heic:https://www.allinclusiveministries.org/wp-content/uploads/2024/01/IMG_0866.heic
END:VEVENT
BEGIN:VEVENT
DTSTART;TZID=America/Toronto:20240118T190000
DTEND;TZID=America/Toronto:20240118T203000
DTSTAMP:20260424T215859
CREATED:20240111T112437Z
LAST-MODIFIED:20240111T112437Z
UID:13128-1705604400-1705609800@www.allinclusiveministries.org
SUMMARY:January 18: AIM Book: Declaration Fiducia Supplicans on the Pastoral Meaning of Blessings
DESCRIPTION:To read  Fiducia Supplicans click here.\nThis is not a lecture. Please join us to discuss\, ponder\, ask questions\, think\, listen … \nLocation: Kelly Library 113 St Joseph Street  M5S 3C2
URL:https://www.allinclusiveministries.org/aim-event/january-18-aim-book-declaration-fiducia-supplicans-on-the-pastoral-meaning-of-blessings/
LOCATION:Kelly Library – St Michael’s College\, 113 St Joseph St\, Toronto\, Ontario\, Canada
ATTACH;FMTTYPE=image/jpeg:https://www.allinclusiveministries.org/wp-content/uploads/2024/01/Fiducia-Supplicans-2023-1200x525-1-e1704972229948.jpg
END:VEVENT
BEGIN:VEVENT
DTSTART;TZID=America/Toronto:20240127T173000
DTEND;TZID=America/Toronto:20240127T180000
DTSTAMP:20260424T215859
CREATED:20240111T111915Z
LAST-MODIFIED:20240111T111915Z
UID:13126-1706376600-1706378400@www.allinclusiveministries.org
SUMMARY:January 27: AIM Telling Our Stories
DESCRIPTION:“We will have our first session of “Telling Our Stories”. Greg Campbell will be sharing his story with us. As mentioned in previous communications\, TOS will be a space where we as a community come together to hear each other’s stories in mutual respect and in a spirit of discipleship. While we hope this to be a space that nurtures you and helps you in your journey\, we also highlight that this is not a space for collective therapy or collective spiritual direction. We only want to grow together and learn from each other. Come join us!” (TOS) \nLocation: Lynch Hall\, Our Lady of Lourdes Parish\, 520 Sherbourne St.
URL:https://www.allinclusiveministries.org/aim-event/january-27-aim-telling-our-stories/
LOCATION:Our Lady of Lourdes Parish\, 520 Sherbourne Street\, Toronto\, ON\, M4X 1K8
CATEGORIES:Fellowship
ATTACH;FMTTYPE=image/png:https://www.allinclusiveministries.org/wp-content/uploads/2022/12/coupl.png
END:VEVENT
BEGIN:VEVENT
DTSTART;TZID=America/Toronto:20240127T190000
DTEND;TZID=America/Toronto:20240127T210000
DTSTAMP:20260424T215859
CREATED:20240111T111254Z
LAST-MODIFIED:20240111T111538Z
UID:13124-1706382000-1706389200@www.allinclusiveministries.org
SUMMARY:January 27: AIM 4th Saturday Mass
DESCRIPTION:AIM hosts the 4th Saturday Mass where everyone can feel free to worship in a supportive environment. The AIM Monthly Mass will be at Our Lady Of Lourdes Church\, 520 Sherbourne St.\, Toronto\, at 7:00 PM. \nPost-Mass Celebration\nDon’t miss our after-mass gathering. It is a great opportunity to talk with each other.  \nAIM Offertory Collection\nThere will be a basket\, placed in the aisle of the church\, for those who are able and wish to contribute. \nDecember collection plate: $311.00 Thank you. Without you\, none of this would be possible.
URL:https://www.allinclusiveministries.org/aim-event/january-27-aim-4th-saturday-mass/
LOCATION:Our Lady of Lourdes Parish\, 520 Sherbourne Street\, Toronto\, ON\, M4X 1K8
ATTACH;FMTTYPE=image/jpeg:https://www.allinclusiveministries.org/wp-content/uploads/2016/06/16.jpg
END:VEVENT
END:VCALENDAR