BEGIN:VCALENDAR
VERSION:2.0
PRODID:-//All Inclusive Ministries | A Group for Lesbian, Gay, Bisexual, and Transgender Catholics in Toronto, Canada - ECPv6.15.20//NONSGML v1.0//EN
CALSCALE:GREGORIAN
METHOD:PUBLISH
X-ORIGINAL-URL:https://www.allinclusiveministries.org
X-WR-CALDESC:Events for All Inclusive Ministries | A Group for Lesbian, Gay, Bisexual, and Transgender Catholics in Toronto, Canada
REFRESH-INTERVAL;VALUE=DURATION:PT1H
X-Robots-Tag:noindex
X-PUBLISHED-TTL:PT1H
BEGIN:VTIMEZONE
TZID:America/Toronto
BEGIN:DAYLIGHT
TZOFFSETFROM:-0500
TZOFFSETTO:-0400
TZNAME:EDT
DTSTART:20220313T070000
END:DAYLIGHT
BEGIN:STANDARD
TZOFFSETFROM:-0400
TZOFFSETTO:-0500
TZNAME:EST
DTSTART:20221106T060000
END:STANDARD
BEGIN:DAYLIGHT
TZOFFSETFROM:-0500
TZOFFSETTO:-0400
TZNAME:EDT
DTSTART:20230312T070000
END:DAYLIGHT
BEGIN:STANDARD
TZOFFSETFROM:-0400
TZOFFSETTO:-0500
TZNAME:EST
DTSTART:20231105T060000
END:STANDARD
BEGIN:DAYLIGHT
TZOFFSETFROM:-0500
TZOFFSETTO:-0400
TZNAME:EDT
DTSTART:20240310T070000
END:DAYLIGHT
BEGIN:STANDARD
TZOFFSETFROM:-0400
TZOFFSETTO:-0500
TZNAME:EST
DTSTART:20241103T060000
END:STANDARD
END:VTIMEZONE
BEGIN:VEVENT
DTSTART;TZID=America/Toronto:20231206T180000
DTEND;TZID=America/Toronto:20231206T190000
DTSTAMP:20260424T232331
CREATED:20231206T220819Z
LAST-MODIFIED:20231206T221254Z
UID:13091-1701885600-1701889200@www.allinclusiveministries.org
SUMMARY:December 6: AIM Gospel Reflection
DESCRIPTION:Reading for the 2nd Sunday of Advent\, Mark 1.1-8\nJoin us to learn about the background and context of the Sunday readings with Gordon Davies\, D.Th.\, a biblical scholar and AIM member. With other LGBTQ+ people\, our allies\, and parishioners of Our Lady of Lourdes Parish discuss how the readings are important to you. All are welcome. \nSign up information here\nLocation: Lynch Hall\, Our Lady of Lourdes Parish\, 520 Sherbourne St.
URL:https://www.allinclusiveministries.org/aim-event/december-6-aim-gospel-reflection/
LOCATION:Our Lady of Lourdes Parish\, 520 Sherbourne Street\, Toronto\, ON\, M4X 1K8
ATTACH;FMTTYPE=image/png:https://www.allinclusiveministries.org/wp-content/uploads/2022/12/Capture-decran-le-2022-12-18-a-21.24.15.png
END:VEVENT
BEGIN:VEVENT
DTSTART;TZID=America/Toronto:20231207T190000
DTEND;TZID=America/Toronto:20231207T210000
DTSTAMP:20260424T232331
CREATED:20231206T220410Z
LAST-MODIFIED:20231213T141429Z
UID:13088-1701975600-1701982800@www.allinclusiveministries.org
SUMMARY:December 7: AIM Movie - Au Bonheur des Ogres
DESCRIPTION:This month we piggyback\, we join\, Our Lady of Lourdes Advent Film Series.\nLocation: Library Hall\, Our Lady of Lourdes  520 Sherbourne St M4Y 1M4 (enter from parking lot)
URL:https://www.allinclusiveministries.org/aim-event/december-7l-aim-movie-joyeux-noel/
LOCATION:Our Lady of Lourdes Parish\, 520 Sherbourne Street\, Toronto\, ON\, M4X 1K8
ATTACH;FMTTYPE=image/jpeg:https://www.allinclusiveministries.org/wp-content/uploads/2022/01/IMG_3723.jpeg
END:VEVENT
BEGIN:VEVENT
DTSTART;TZID=America/Toronto:20231214T190000
DTEND;TZID=America/Toronto:20231214T210000
DTSTAMP:20260424T232331
CREATED:20231206T220048Z
LAST-MODIFIED:20231213T141617Z
UID:13085-1702580400-1702587600@www.allinclusiveministries.org
SUMMARY:December 14: AIM Movie: Joyeux Noël
DESCRIPTION:This month we piggyback\, we join\, Our Lady of Lourdes Advent Film Series.\nLocation: Library Hall\, Our Lady of Lourdes  520 Sherbourne St M4Y 1M4 (enter from parking lot)
URL:https://www.allinclusiveministries.org/aim-event/december-14-aim-movie-au-bonheur-des-ogres/
LOCATION:Our Lady of Lourdes Parish\, 520 Sherbourne Street\, Toronto\, ON\, M4X 1K8
ATTACH;FMTTYPE=image/jpeg:https://www.allinclusiveministries.org/wp-content/uploads/2022/01/IMG_3723.jpeg
END:VEVENT
BEGIN:VEVENT
DTSTART;TZID=America/Toronto:20231216T190000
DTEND;TZID=America/Toronto:20231216T210000
DTSTAMP:20260424T232331
CREATED:20231206T215525Z
LAST-MODIFIED:20231211T154826Z
UID:13082-1702753200-1702760400@www.allinclusiveministries.org
SUMMARY:December 16: AIM Saturday Mass
DESCRIPTION:Note this is Gaudete Sunday (not the actual 4th Saturday of the month) one of the year’s two Healing Masses. Please note the date December 16\, 2023 \nThe Mass will be celebrated upstairs in the Library.\nAIM hosts the 4th Saturday Mass where everyone can feel free to worship in a supportive environment. The AIM Monthly Mass will be at Our Lady Of Lourdes Church\, 520 Sherbourne St.\, Toronto\, at 7:00 PM. \nPost-Mass Celebration\nDon’t miss our after-mass gathering. It is a great opportunity to talk with each other.  \nAIM Offertory Collection\nThere will be a basket\, placed in the aisle of the church\, for those who are able and wish to contribute. \nNovember collection plate: $217.25 Thank you. Without you\, none of this would be possible.
URL:https://www.allinclusiveministries.org/aim-event/december-16-aim-saturday-mass/
LOCATION:Our Lady of Lourdes Parish\, 520 Sherbourne Street\, Toronto\, ON\, M4X 1K8
ATTACH;FMTTYPE=image/jpeg:https://www.allinclusiveministries.org/wp-content/uploads/2016/06/20.jpg
END:VEVENT
END:VCALENDAR