BEGIN:VCALENDAR
VERSION:2.0
PRODID:-//All Inclusive Ministries | A Group for Lesbian, Gay, Bisexual, and Transgender Catholics in Toronto, Canada - ECPv6.15.20//NONSGML v1.0//EN
CALSCALE:GREGORIAN
METHOD:PUBLISH
X-WR-CALNAME:All Inclusive Ministries | A Group for Lesbian, Gay, Bisexual, and Transgender Catholics in Toronto, Canada
X-ORIGINAL-URL:https://www.allinclusiveministries.org
X-WR-CALDESC:Events for All Inclusive Ministries | A Group for Lesbian, Gay, Bisexual, and Transgender Catholics in Toronto, Canada
REFRESH-INTERVAL;VALUE=DURATION:PT1H
X-Robots-Tag:noindex
X-PUBLISHED-TTL:PT1H
BEGIN:VTIMEZONE
TZID:America/Toronto
BEGIN:DAYLIGHT
TZOFFSETFROM:-0500
TZOFFSETTO:-0400
TZNAME:EDT
DTSTART:20220313T070000
END:DAYLIGHT
BEGIN:STANDARD
TZOFFSETFROM:-0400
TZOFFSETTO:-0500
TZNAME:EST
DTSTART:20221106T060000
END:STANDARD
BEGIN:DAYLIGHT
TZOFFSETFROM:-0500
TZOFFSETTO:-0400
TZNAME:EDT
DTSTART:20230312T070000
END:DAYLIGHT
BEGIN:STANDARD
TZOFFSETFROM:-0400
TZOFFSETTO:-0500
TZNAME:EST
DTSTART:20231105T060000
END:STANDARD
BEGIN:DAYLIGHT
TZOFFSETFROM:-0500
TZOFFSETTO:-0400
TZNAME:EDT
DTSTART:20240310T070000
END:DAYLIGHT
BEGIN:STANDARD
TZOFFSETFROM:-0400
TZOFFSETTO:-0500
TZNAME:EST
DTSTART:20241103T060000
END:STANDARD
END:VTIMEZONE
BEGIN:VEVENT
DTSTART;TZID=America/Toronto:20230419T190000
DTEND;TZID=America/Toronto:20230419T200000
DTSTAMP:20260425T100751
CREATED:20230401T133944Z
LAST-MODIFIED:20230401T225055Z
UID:12728-1681930800-1681934400@www.allinclusiveministries.org
SUMMARY:April 19: Gospel Reflection.
DESCRIPTION:Reading for 3rd Sunday of Easter Luke 24.13-35\nJoin us to learn about the background and context of the Sunday readings with Gordon Davies\, D. Th.\, a biblical scholar and AIM member.  With other LGBT+ people and our allies\, discuss how the readings are important to you. All are welcome. \n\n\n\nMicrosoft Teams meeting\n\nJoin on your computer\, mobile app or room device\nClick here to join the meeting \n\n\nMeeting ID: 290 069 021 333\nPasscode: Mr9jQW \nDownload Teams | Join on the web\n\n\n\nOr call in (audio only)\n+1 647-794-1609\,\,49492117#   Canada\, Toronto\n\nPhone Conference ID: 494 921 17# \nFind a local number | Reset PIN
URL:https://www.allinclusiveministries.org/aim-event/april-19-gospel-reflection/
LOCATION:Online
CATEGORIES:Gospel Reflection
ATTACH;FMTTYPE=image/jpeg:https://www.allinclusiveministries.org/wp-content/uploads/2020/06/BibleStudyScaled.jpg
END:VEVENT
BEGIN:VEVENT
DTSTART;TZID=America/Toronto:20230422T190000
DTEND;TZID=America/Toronto:20230422T200000
DTSTAMP:20260425T100751
CREATED:20230401T134533Z
LAST-MODIFIED:20230401T190916Z
UID:12722-1682190000-1682193600@www.allinclusiveministries.org
SUMMARY:April 22: AIM 4th Saturday of the Month Mass
DESCRIPTION:AIM hosts a monthly Mass where everyone can feel free to worship in a supportive environment. \nPost-Mass Gathering\nDon’t miss our after mass gathering. It is a great opportunity to talk with each other. \nAIM Offertory Collection\nThere will be a basket\, placed near the offertory gifts of bread and wine\, for those who are able and wish to contribute.
URL:https://www.allinclusiveministries.org/aim-event/12722/
LOCATION:Our Lady of Lourdes Parish\, 520 Sherbourne Street\, Toronto\, ON\, M4X 1K8
CATEGORIES:Mass
ATTACH;FMTTYPE=image/jpeg:https://www.allinclusiveministries.org/wp-content/uploads/2020/04/Our-Lady-of-Lourdes.jpg
END:VEVENT
BEGIN:VEVENT
DTSTART;TZID=America/Toronto:20230425T180000
DTEND;TZID=America/Toronto:20230425T210000
DTSTAMP:20260425T100751
CREATED:20230401T132119Z
LAST-MODIFIED:20230401T190729Z
UID:12714-1682445600-1682456400@www.allinclusiveministries.org
SUMMARY:April 25: AIM Movie
DESCRIPTION:The Banshees of Inisherin\nAIM is happy\, and grateful to the University of St Michael’s College for hosting AIM Movie.\nSet on a remote island off the west coast of Ireland\, THE BANSHEES OF INISHERIN follows lifelong friends Padraic (Colin Farrell) and Colm (Brendan Gleeson)\, who find themselves at an impasse when Colm unexpectedly puts an end to their friendship. A stunned Padraic\, aided by his sister Siobhan (Kerry Condon) and troubled young islander Dominic (Barry Keoghan)\, endeavours to repair the relationship\, refusing to take no for an answer. But Padraic’s repeated efforts only strengthen his former friend’s resolve and when Colm delivers a desperate ultimatum\, events swiftly escalate\, with shocking consequences. \n 
URL:https://www.allinclusiveministries.org/aim-event/april-25-aim-movie/
LOCATION:Kelly Library – St Michael’s College\, 113 St Joseph St\, Toronto\, Ontario\, Canada
CATEGORIES:Cinema,Movies
ATTACH;FMTTYPE=image/jpeg:https://www.allinclusiveministries.org/wp-content/uploads/2023/04/header.jpg
END:VEVENT
END:VCALENDAR