BEGIN:VCALENDAR
VERSION:2.0
PRODID:-//All Inclusive Ministries | A Group for Lesbian, Gay, Bisexual, and Transgender Catholics in Toronto, Canada - ECPv6.15.20//NONSGML v1.0//EN
CALSCALE:GREGORIAN
METHOD:PUBLISH
X-WR-CALNAME:All Inclusive Ministries | A Group for Lesbian, Gay, Bisexual, and Transgender Catholics in Toronto, Canada
X-ORIGINAL-URL:https://www.allinclusiveministries.org
X-WR-CALDESC:Events for All Inclusive Ministries | A Group for Lesbian, Gay, Bisexual, and Transgender Catholics in Toronto, Canada
REFRESH-INTERVAL;VALUE=DURATION:PT1H
X-Robots-Tag:noindex
X-PUBLISHED-TTL:PT1H
BEGIN:VTIMEZONE
TZID:America/Toronto
BEGIN:DAYLIGHT
TZOFFSETFROM:-0500
TZOFFSETTO:-0400
TZNAME:EDT
DTSTART:20210314T070000
END:DAYLIGHT
BEGIN:STANDARD
TZOFFSETFROM:-0400
TZOFFSETTO:-0500
TZNAME:EST
DTSTART:20211107T060000
END:STANDARD
BEGIN:DAYLIGHT
TZOFFSETFROM:-0500
TZOFFSETTO:-0400
TZNAME:EDT
DTSTART:20220313T070000
END:DAYLIGHT
BEGIN:STANDARD
TZOFFSETFROM:-0400
TZOFFSETTO:-0500
TZNAME:EST
DTSTART:20221106T060000
END:STANDARD
BEGIN:DAYLIGHT
TZOFFSETFROM:-0500
TZOFFSETTO:-0400
TZNAME:EDT
DTSTART:20230312T070000
END:DAYLIGHT
BEGIN:STANDARD
TZOFFSETFROM:-0400
TZOFFSETTO:-0500
TZNAME:EST
DTSTART:20231105T060000
END:STANDARD
END:VTIMEZONE
BEGIN:VEVENT
DTSTART;TZID=America/Toronto:20221221T190000
DTEND;TZID=America/Toronto:20221221T200000
DTSTAMP:20260423T175547
CREATED:20221209T185204Z
LAST-MODIFIED:20221214T211733Z
UID:11945-1671649200-1671652800@www.allinclusiveministries.org
SUMMARY:Gospel Reflection December
DESCRIPTION:
URL:https://www.allinclusiveministries.org/aim-event/gospel-reflection-december/
LOCATION:Virtual
CATEGORIES:Christmas
ATTACH;FMTTYPE=image/jpeg:https://www.allinclusiveministries.org/wp-content/uploads/2022/01/IMG_0122.jpg
END:VEVENT
BEGIN:VEVENT
DTSTART;TZID=America/Toronto:20221210T183000
DTEND;TZID=America/Toronto:20221210T200000
DTSTAMP:20260423T175547
CREATED:20221209T184849Z
LAST-MODIFIED:20221231T223024Z
UID:11943-1670697000-1670702400@www.allinclusiveministries.org
SUMMARY:AIM 4th Saturday December Mass
DESCRIPTION:
URL:https://www.allinclusiveministries.org/aim-event/aim-4th-saturday-december-mass/
LOCATION:Our Lady of Lourdes Parish\, 520 Sherbourne Street\, Toronto\, ON\, M4X 1K8
END:VEVENT
END:VCALENDAR