BEGIN:VCALENDAR
VERSION:2.0
PRODID:-//All Inclusive Ministries | A Group for Lesbian, Gay, Bisexual, and Transgender Catholics in Toronto, Canada - ECPv6.15.20//NONSGML v1.0//EN
CALSCALE:GREGORIAN
METHOD:PUBLISH
X-ORIGINAL-URL:https://www.allinclusiveministries.org
X-WR-CALDESC:Events for All Inclusive Ministries | A Group for Lesbian, Gay, Bisexual, and Transgender Catholics in Toronto, Canada
REFRESH-INTERVAL;VALUE=DURATION:PT1H
X-Robots-Tag:noindex
X-PUBLISHED-TTL:PT1H
BEGIN:VTIMEZONE
TZID:America/Toronto
BEGIN:DAYLIGHT
TZOFFSETFROM:-0500
TZOFFSETTO:-0400
TZNAME:EDT
DTSTART:20220313T070000
END:DAYLIGHT
BEGIN:STANDARD
TZOFFSETFROM:-0400
TZOFFSETTO:-0500
TZNAME:EST
DTSTART:20221106T060000
END:STANDARD
BEGIN:DAYLIGHT
TZOFFSETFROM:-0500
TZOFFSETTO:-0400
TZNAME:EDT
DTSTART:20230312T070000
END:DAYLIGHT
BEGIN:STANDARD
TZOFFSETFROM:-0400
TZOFFSETTO:-0500
TZNAME:EST
DTSTART:20231105T060000
END:STANDARD
BEGIN:DAYLIGHT
TZOFFSETFROM:-0500
TZOFFSETTO:-0400
TZNAME:EDT
DTSTART:20240310T070000
END:DAYLIGHT
BEGIN:STANDARD
TZOFFSETFROM:-0400
TZOFFSETTO:-0500
TZNAME:EST
DTSTART:20241103T060000
END:STANDARD
END:VTIMEZONE
BEGIN:VEVENT
DTSTART;TZID=America/Toronto:20230425T180000
DTEND;TZID=America/Toronto:20230425T210000
DTSTAMP:20260423T201228
CREATED:20230401T132119Z
LAST-MODIFIED:20230401T190729Z
UID:12714-1682445600-1682456400@www.allinclusiveministries.org
SUMMARY:April 25: AIM Movie
DESCRIPTION:The Banshees of Inisherin\nAIM is happy\, and grateful to the University of St Michael’s College for hosting AIM Movie.\nSet on a remote island off the west coast of Ireland\, THE BANSHEES OF INISHERIN follows lifelong friends Padraic (Colin Farrell) and Colm (Brendan Gleeson)\, who find themselves at an impasse when Colm unexpectedly puts an end to their friendship. A stunned Padraic\, aided by his sister Siobhan (Kerry Condon) and troubled young islander Dominic (Barry Keoghan)\, endeavours to repair the relationship\, refusing to take no for an answer. But Padraic’s repeated efforts only strengthen his former friend’s resolve and when Colm delivers a desperate ultimatum\, events swiftly escalate\, with shocking consequences. \n 
URL:https://www.allinclusiveministries.org/aim-event/april-25-aim-movie/
LOCATION:Kelly Library – St Michael’s College\, 113 St Joseph St\, Toronto\, Ontario\, Canada
CATEGORIES:Cinema,Movies
ATTACH;FMTTYPE=image/jpeg:https://www.allinclusiveministries.org/wp-content/uploads/2023/04/header.jpg
END:VEVENT
BEGIN:VEVENT
DTSTART;TZID=America/Toronto:20230217T190000
DTEND;TZID=America/Toronto:20230217T210000
DTSTAMP:20260423T201228
CREATED:20230201T153950Z
LAST-MODIFIED:20230216T202515Z
UID:12464-1676660400-1676667600@www.allinclusiveministries.org
SUMMARY:February 17 -AIM Movie: Smiley
DESCRIPTION:Smiley is a funny\, heartwarming\, and emotional Netflix series. The eight episodes take all the recurrent themes we would expect and transport them into an LGBTQ+ series that’s an absolute must-watch.\nEven though the show never takes itself too seriously\, we have chosen it as our AIM Movie. Its genuinely touching segments reflect our current LGBTQ+ life. \nPlease watch “Smiley” in advance of our conversation on February 17. Available on Netflix. \nRegister here for the next AIM Movie\, Smiley. After registering\, you will receive a confirmation email about joining the meeting.
URL:https://www.allinclusiveministries.org/aim-event/aim-movie-smiley/
LOCATION:Online
CATEGORIES:Cinema,Movies
END:VEVENT
END:VCALENDAR