BEGIN:VCALENDAR
VERSION:2.0
PRODID:-//All Inclusive Ministries | A Group for Lesbian, Gay, Bisexual, and Transgender Catholics in Toronto, Canada - ECPv6.15.20//NONSGML v1.0//EN
CALSCALE:GREGORIAN
METHOD:PUBLISH
X-WR-CALNAME:All Inclusive Ministries | A Group for Lesbian, Gay, Bisexual, and Transgender Catholics in Toronto, Canada
X-ORIGINAL-URL:https://www.allinclusiveministries.org
X-WR-CALDESC:Events for All Inclusive Ministries | A Group for Lesbian, Gay, Bisexual, and Transgender Catholics in Toronto, Canada
REFRESH-INTERVAL;VALUE=DURATION:PT1H
X-Robots-Tag:noindex
X-PUBLISHED-TTL:PT1H
BEGIN:VTIMEZONE
TZID:America/Toronto
BEGIN:DAYLIGHT
TZOFFSETFROM:-0500
TZOFFSETTO:-0400
TZNAME:EDT
DTSTART:20220313T070000
END:DAYLIGHT
BEGIN:STANDARD
TZOFFSETFROM:-0400
TZOFFSETTO:-0500
TZNAME:EST
DTSTART:20221106T060000
END:STANDARD
BEGIN:DAYLIGHT
TZOFFSETFROM:-0500
TZOFFSETTO:-0400
TZNAME:EDT
DTSTART:20230312T070000
END:DAYLIGHT
BEGIN:STANDARD
TZOFFSETFROM:-0400
TZOFFSETTO:-0500
TZNAME:EST
DTSTART:20231105T060000
END:STANDARD
BEGIN:DAYLIGHT
TZOFFSETFROM:-0500
TZOFFSETTO:-0400
TZNAME:EDT
DTSTART:20240310T070000
END:DAYLIGHT
BEGIN:STANDARD
TZOFFSETFROM:-0400
TZOFFSETTO:-0500
TZNAME:EST
DTSTART:20241103T060000
END:STANDARD
END:VTIMEZONE
BEGIN:VEVENT
DTSTART;TZID=America/Toronto:20230624T190000
DTEND;TZID=America/Toronto:20230624T210000
DTSTAMP:20260423T201258
CREATED:20230528T144728Z
LAST-MODIFIED:20230528T144728Z
UID:12787-1687633200-1687640400@www.allinclusiveministries.org
SUMMARY:June 24: AIM 4th Saturday Mass - AIM Anniversary Pride
DESCRIPTION:This month AIM hosts the 4th Saturday Mass and celebrates the Anniversary Pride\, where everyone can feel free to worship in a supportive environment. \nPost-Mass Celebration\nDon’t miss our after-mass Anniversary Pride Celebration. It is a great opportunity to talk with each other.  \n\nAIM Offertory Collection\nThere will be a basket\, placed near the offertory gifts of bread and wine\, for those who are able and wish to contribute. \nMay collection plate: $111.00  Thank you. Without you\, none of this would be possible.
URL:https://www.allinclusiveministries.org/aim-event/june-24-aim-4th-saturday-mass-aim-anniversary-pride/
LOCATION:Our Lady of Lourdes Parish\, 520 Sherbourne Street\, Toronto\, ON\, M4X 1K8
CATEGORIES:Mass,Monthly Gathering
ATTACH;FMTTYPE=image/jpeg:https://www.allinclusiveministries.org/wp-content/uploads/2019/12/ComeCelebrateWithUs.jpg
END:VEVENT
END:VCALENDAR