BEGIN:VCALENDAR
VERSION:2.0
PRODID:-//All Inclusive Ministries | A Group for Lesbian, Gay, Bisexual, and Transgender Catholics in Toronto, Canada - ECPv6.15.20//NONSGML v1.0//EN
CALSCALE:GREGORIAN
METHOD:PUBLISH
X-ORIGINAL-URL:https://www.allinclusiveministries.org
X-WR-CALDESC:Events for All Inclusive Ministries | A Group for Lesbian, Gay, Bisexual, and Transgender Catholics in Toronto, Canada
REFRESH-INTERVAL;VALUE=DURATION:PT1H
X-Robots-Tag:noindex
X-PUBLISHED-TTL:PT1H
BEGIN:VTIMEZONE
TZID:America/Toronto
BEGIN:DAYLIGHT
TZOFFSETFROM:-0500
TZOFFSETTO:-0400
TZNAME:EDT
DTSTART:20230312T070000
END:DAYLIGHT
BEGIN:STANDARD
TZOFFSETFROM:-0400
TZOFFSETTO:-0500
TZNAME:EST
DTSTART:20231105T060000
END:STANDARD
BEGIN:DAYLIGHT
TZOFFSETFROM:-0500
TZOFFSETTO:-0400
TZNAME:EDT
DTSTART:20240310T070000
END:DAYLIGHT
BEGIN:STANDARD
TZOFFSETFROM:-0400
TZOFFSETTO:-0500
TZNAME:EST
DTSTART:20241103T060000
END:STANDARD
BEGIN:DAYLIGHT
TZOFFSETFROM:-0500
TZOFFSETTO:-0400
TZNAME:EDT
DTSTART:20250309T070000
END:DAYLIGHT
BEGIN:STANDARD
TZOFFSETFROM:-0400
TZOFFSETTO:-0500
TZNAME:EST
DTSTART:20251102T060000
END:STANDARD
END:VTIMEZONE
BEGIN:VEVENT
DTSTART;TZID=America/Toronto:20240323T190000
DTEND;TZID=America/Toronto:20240323T200000
DTSTAMP:20260423T155318
CREATED:20240226T004712Z
LAST-MODIFIED:20240226T004712Z
UID:13160-1711220400-1711224000@www.allinclusiveministries.org
SUMMARY:March 23: AIM 4th Saturday Mass
DESCRIPTION:AIM hosts the 4th Saturday Mass\, where everyone can feel free to worship in a supportive environment. The AIM Monthly Mass will be at Our Lady Of Lourdes Church\, 520 Sherbourne St.\, Toronto\, at 7:00 PM. \nPost-Mass Celebration\nDon’t miss our after-mass gathering. It is a great opportunity to talk with each other.  \nAIM Offertory Collection\nThere will be a basket placed in the aisle of the church for those who are able and wish to contribute. \n 
URL:https://www.allinclusiveministries.org/aim-event/march-23-aim-4th-saturday-mass/
LOCATION:Our Lady of Lourdes Parish\, 520 Sherbourne Street\, Toronto\, ON\, M4X 1K8
CATEGORIES:Lent,Mass
ATTACH;FMTTYPE=image/jpeg:https://www.allinclusiveministries.org/wp-content/uploads/2020/04/WR-blog-post-eucharist.jpg
END:VEVENT
END:VCALENDAR