BEGIN:VCALENDAR
VERSION:2.0
PRODID:-//All Inclusive Ministries | A Group for Lesbian, Gay, Bisexual, and Transgender Catholics in Toronto, Canada - ECPv6.15.20//NONSGML v1.0//EN
CALSCALE:GREGORIAN
METHOD:PUBLISH
X-WR-CALNAME:All Inclusive Ministries | A Group for Lesbian, Gay, Bisexual, and Transgender Catholics in Toronto, Canada
X-ORIGINAL-URL:https://www.allinclusiveministries.org
X-WR-CALDESC:Events for All Inclusive Ministries | A Group for Lesbian, Gay, Bisexual, and Transgender Catholics in Toronto, Canada
REFRESH-INTERVAL;VALUE=DURATION:PT1H
X-Robots-Tag:noindex
X-PUBLISHED-TTL:PT1H
BEGIN:VTIMEZONE
TZID:America/Toronto
BEGIN:DAYLIGHT
TZOFFSETFROM:-0500
TZOFFSETTO:-0400
TZNAME:EDT
DTSTART:20220313T070000
END:DAYLIGHT
BEGIN:STANDARD
TZOFFSETFROM:-0400
TZOFFSETTO:-0500
TZNAME:EST
DTSTART:20221106T060000
END:STANDARD
BEGIN:DAYLIGHT
TZOFFSETFROM:-0500
TZOFFSETTO:-0400
TZNAME:EDT
DTSTART:20230312T070000
END:DAYLIGHT
BEGIN:STANDARD
TZOFFSETFROM:-0400
TZOFFSETTO:-0500
TZNAME:EST
DTSTART:20231105T060000
END:STANDARD
BEGIN:DAYLIGHT
TZOFFSETFROM:-0500
TZOFFSETTO:-0400
TZNAME:EDT
DTSTART:20240310T070000
END:DAYLIGHT
BEGIN:STANDARD
TZOFFSETFROM:-0400
TZOFFSETTO:-0500
TZNAME:EST
DTSTART:20241103T060000
END:STANDARD
END:VTIMEZONE
BEGIN:VEVENT
DTSTART;TZID=America/Toronto:20231023T180000
DTEND;TZID=America/Toronto:20231023T190000
DTSTAMP:20260425T074120
CREATED:20230928T164130Z
LAST-MODIFIED:20230928T164130Z
UID:13046-1698084000-1698087600@www.allinclusiveministries.org
SUMMARY:October 23: AIM Gospel Reflection
DESCRIPTION:Reading for the 30th Sunday in Ordinary Time: Matthew 22.34-40\nJoin us to learn about the background and context of the Sunday readings with Gordon Davies\, D. Th.\, a biblical scholar and AIM member. With other LGBTQ+ people and our allies\, discuss how the readings are important to you. All are welcome. \nLocation: Lynch Hall Our Lady of Lourdes Parish\, 520 Sherbourne St.
URL:https://www.allinclusiveministries.org/aim-event/october-23-aim-gospel-reflection/
LOCATION:Our Lady of Lourdes Parish\, 520 Sherbourne Street\, Toronto\, ON\, M4X 1K8
CATEGORIES:Fellowship,Gospel Reflection
ATTACH;FMTTYPE=image/png:https://www.allinclusiveministries.org/wp-content/uploads/2022/12/Capture-decran-le-2022-12-21-a-21.53.31.png
END:VEVENT
END:VCALENDAR