BEGIN:VCALENDAR
VERSION:2.0
PRODID:-//All Inclusive Ministries | A Group for Lesbian, Gay, Bisexual, and Transgender Catholics in Toronto, Canada - ECPv6.15.20//NONSGML v1.0//EN
CALSCALE:GREGORIAN
METHOD:PUBLISH
X-WR-CALNAME:All Inclusive Ministries | A Group for Lesbian, Gay, Bisexual, and Transgender Catholics in Toronto, Canada
X-ORIGINAL-URL:https://www.allinclusiveministries.org
X-WR-CALDESC:Events for All Inclusive Ministries | A Group for Lesbian, Gay, Bisexual, and Transgender Catholics in Toronto, Canada
REFRESH-INTERVAL;VALUE=DURATION:PT1H
X-Robots-Tag:noindex
X-PUBLISHED-TTL:PT1H
BEGIN:VTIMEZONE
TZID:America/Toronto
BEGIN:DAYLIGHT
TZOFFSETFROM:-0500
TZOFFSETTO:-0400
TZNAME:EDT
DTSTART:20220313T070000
END:DAYLIGHT
BEGIN:STANDARD
TZOFFSETFROM:-0400
TZOFFSETTO:-0500
TZNAME:EST
DTSTART:20221106T060000
END:STANDARD
BEGIN:DAYLIGHT
TZOFFSETFROM:-0500
TZOFFSETTO:-0400
TZNAME:EDT
DTSTART:20230312T070000
END:DAYLIGHT
BEGIN:STANDARD
TZOFFSETFROM:-0400
TZOFFSETTO:-0500
TZNAME:EST
DTSTART:20231105T060000
END:STANDARD
BEGIN:DAYLIGHT
TZOFFSETFROM:-0500
TZOFFSETTO:-0400
TZNAME:EDT
DTSTART:20240310T070000
END:DAYLIGHT
BEGIN:STANDARD
TZOFFSETFROM:-0400
TZOFFSETTO:-0500
TZNAME:EST
DTSTART:20241103T060000
END:STANDARD
END:VTIMEZONE
BEGIN:VEVENT
DTSTART;TZID=America/Toronto:20230720T140000
DTEND;TZID=America/Toronto:20230720T153000
DTSTAMP:20260425T104639
CREATED:20230629T140418Z
LAST-MODIFIED:20230716T114952Z
UID:12830-1689861600-1689867000@www.allinclusiveministries.org
SUMMARY:July 20: AIM Book
DESCRIPTION:Join us to discuss this fabulous book which looks at the LGBTQ experience from the late 1960s to the present. \nFarrell Covington and the Limits of Style by Paul Rudnick \nDay: Thursday July 20\, 2023 \nTime: 2:oo – 3:30 PM \nLocation: Kelly Library – St Michael’s College: 113 St Joseph St\, Toronto \n“In this semi-autobiographical novel\, Rudnick takes readers back to the insanity and fabulousness of the ’70s and ’80s—the abundance of nightclubs\, drugs\, sex\, alcohol\, creativity\, and the tragedy of having loved ones stolen by HIV/AIDS. He reminds the reader of how far gay rights have come\, from screaming at Reagan and Thatcher for their arrogance and inhumane rhetoric to marriage equality in 2015 and the ongoing effort to protect same-sex couples.\nHowever\, Farrell Covington and the Limits of Style is not all camp and kisses. The story delves into how intelligence\, organization\, and love are\, and continue to be\, the pillars behind the successes of the LGBTQ+ movement. These three pillars are witnessed personally through Farrell’s silent effort to overcome the cruelty of his right-wing religious father.” Reviewed by Mandy Jackson-Beverly – new york journal of books
URL:https://www.allinclusiveministries.org/aim-event/july-20-aim-book/
LOCATION:Kelly Library – St Michael’s College\, 113 St Joseph St\, Toronto\, Ontario\, Canada
CATEGORIES:Books,Fellowship
ATTACH;FMTTYPE=image/png:https://www.allinclusiveministries.org/wp-content/uploads/2023/06/Farrell-book-e1688743185698.png
END:VEVENT
END:VCALENDAR