BEGIN:VCALENDAR
VERSION:2.0
PRODID:-//All Inclusive Ministries | A Group for Lesbian, Gay, Bisexual, and Transgender Catholics in Toronto, Canada - ECPv6.15.20//NONSGML v1.0//EN
CALSCALE:GREGORIAN
METHOD:PUBLISH
X-WR-CALNAME:All Inclusive Ministries | A Group for Lesbian, Gay, Bisexual, and Transgender Catholics in Toronto, Canada
X-ORIGINAL-URL:https://www.allinclusiveministries.org
X-WR-CALDESC:Events for All Inclusive Ministries | A Group for Lesbian, Gay, Bisexual, and Transgender Catholics in Toronto, Canada
REFRESH-INTERVAL;VALUE=DURATION:PT1H
X-Robots-Tag:noindex
X-PUBLISHED-TTL:PT1H
BEGIN:VTIMEZONE
TZID:America/Toronto
BEGIN:DAYLIGHT
TZOFFSETFROM:-0500
TZOFFSETTO:-0400
TZNAME:EDT
DTSTART:20220313T070000
END:DAYLIGHT
BEGIN:STANDARD
TZOFFSETFROM:-0400
TZOFFSETTO:-0500
TZNAME:EST
DTSTART:20221106T060000
END:STANDARD
BEGIN:DAYLIGHT
TZOFFSETFROM:-0500
TZOFFSETTO:-0400
TZNAME:EDT
DTSTART:20230312T070000
END:DAYLIGHT
BEGIN:STANDARD
TZOFFSETFROM:-0400
TZOFFSETTO:-0500
TZNAME:EST
DTSTART:20231105T060000
END:STANDARD
BEGIN:DAYLIGHT
TZOFFSETFROM:-0500
TZOFFSETTO:-0400
TZNAME:EDT
DTSTART:20240310T070000
END:DAYLIGHT
BEGIN:STANDARD
TZOFFSETFROM:-0400
TZOFFSETTO:-0500
TZNAME:EST
DTSTART:20241103T060000
END:STANDARD
END:VTIMEZONE
BEGIN:VEVENT
DTSTART;TZID=America/Toronto:20230823T190000
DTEND;TZID=America/Toronto:20230823T200000
DTSTAMP:20260425T061653
CREATED:20230528T145810Z
LAST-MODIFIED:20230809T124325Z
UID:12789-1692817200-1692820800@www.allinclusiveministries.org
SUMMARY:August 23: Gospel Reflection
DESCRIPTION:Join us to learn about the background and context of the Sunday readings with Gordon Davies\, D. Th.\, a biblical scholar and AIM member. With other LGBTQ+ people and our allies\, discuss how the readings are important to you. All are welcome. \nReading for the 21st Sunday in Ordinary Time: Matthew 16: 13-20\nJoin Teams Meeting\n\nMeeting ID: 269 131 425 062\nPasscode: VwqQSx
URL:https://www.allinclusiveministries.org/aim-event/june-21-gospel-reflection/
LOCATION:Online
CATEGORIES:Gospel Reflection
ATTACH;FMTTYPE=image/png:https://www.allinclusiveministries.org/wp-content/uploads/2022/12/Capture-decran-le-2022-12-18-a-21.24.15.png
END:VEVENT
END:VCALENDAR