BEGIN:VCALENDAR
VERSION:2.0
PRODID:-//All Inclusive Ministries | A Group for Lesbian, Gay, Bisexual, and Transgender Catholics in Toronto, Canada - ECPv6.15.20//NONSGML v1.0//EN
CALSCALE:GREGORIAN
METHOD:PUBLISH
X-WR-CALNAME:All Inclusive Ministries | A Group for Lesbian, Gay, Bisexual, and Transgender Catholics in Toronto, Canada
X-ORIGINAL-URL:https://www.allinclusiveministries.org
X-WR-CALDESC:Events for All Inclusive Ministries | A Group for Lesbian, Gay, Bisexual, and Transgender Catholics in Toronto, Canada
REFRESH-INTERVAL;VALUE=DURATION:PT1H
X-Robots-Tag:noindex
X-PUBLISHED-TTL:PT1H
BEGIN:VTIMEZONE
TZID:America/Toronto
BEGIN:DAYLIGHT
TZOFFSETFROM:-0500
TZOFFSETTO:-0400
TZNAME:EDT
DTSTART:20220313T070000
END:DAYLIGHT
BEGIN:STANDARD
TZOFFSETFROM:-0400
TZOFFSETTO:-0500
TZNAME:EST
DTSTART:20221106T060000
END:STANDARD
BEGIN:DAYLIGHT
TZOFFSETFROM:-0500
TZOFFSETTO:-0400
TZNAME:EDT
DTSTART:20230312T070000
END:DAYLIGHT
BEGIN:STANDARD
TZOFFSETFROM:-0400
TZOFFSETTO:-0500
TZNAME:EST
DTSTART:20231105T060000
END:STANDARD
BEGIN:DAYLIGHT
TZOFFSETFROM:-0500
TZOFFSETTO:-0400
TZNAME:EDT
DTSTART:20240310T070000
END:DAYLIGHT
BEGIN:STANDARD
TZOFFSETFROM:-0400
TZOFFSETTO:-0500
TZNAME:EST
DTSTART:20241103T060000
END:STANDARD
END:VTIMEZONE
BEGIN:VEVENT
DTSTART;TZID=America/Toronto:20230324T190000
DTEND;TZID=America/Toronto:20230324T213000
DTSTAMP:20260425T124244
CREATED:20230308T133112Z
LAST-MODIFIED:20230322T022916Z
UID:12682-1679684400-1679693400@www.allinclusiveministries.org
SUMMARY:March 24: AIM Book: Bad Girls
DESCRIPTION:Book: Bad Girls by Camila Sosa Villada.\nClick here to register.\nFrom BuzzFeed read full review here. \nWhat It’s About: If Queer magical realism is your thing\, this is a book you’re going to want to read. Centering around a group of trans sex workers lead by 178-year-old Auntie Encarna\, this fantastical story about the power of chosen family is entrancing. Playing with ideas of gender\, sexuality\, and the inherent strangeness of physical bodies\, this is a twist on the typical coming-of-age story. For anyone who wishes their life could be just a little more magical\, spend some time with the Bad Girls.
URL:https://www.allinclusiveministries.org/aim-event/march-24-aim-book-bad-girls/
LOCATION:Online
CATEGORIES:Books,Fellowship
END:VEVENT
END:VCALENDAR