BEGIN:VCALENDAR
VERSION:2.0
PRODID:-//All Inclusive Ministries | A Group for Lesbian, Gay, Bisexual, and Transgender Catholics in Toronto, Canada - ECPv6.15.20//NONSGML v1.0//EN
CALSCALE:GREGORIAN
METHOD:PUBLISH
X-WR-CALNAME:All Inclusive Ministries | A Group for Lesbian, Gay, Bisexual, and Transgender Catholics in Toronto, Canada
X-ORIGINAL-URL:https://www.allinclusiveministries.org
X-WR-CALDESC:Events for All Inclusive Ministries | A Group for Lesbian, Gay, Bisexual, and Transgender Catholics in Toronto, Canada
REFRESH-INTERVAL;VALUE=DURATION:PT1H
X-Robots-Tag:noindex
X-PUBLISHED-TTL:PT1H
BEGIN:VTIMEZONE
TZID:America/Toronto
BEGIN:DAYLIGHT
TZOFFSETFROM:-0500
TZOFFSETTO:-0400
TZNAME:EDT
DTSTART:20220313T070000
END:DAYLIGHT
BEGIN:STANDARD
TZOFFSETFROM:-0400
TZOFFSETTO:-0500
TZNAME:EST
DTSTART:20221106T060000
END:STANDARD
BEGIN:DAYLIGHT
TZOFFSETFROM:-0500
TZOFFSETTO:-0400
TZNAME:EDT
DTSTART:20230312T070000
END:DAYLIGHT
BEGIN:STANDARD
TZOFFSETFROM:-0400
TZOFFSETTO:-0500
TZNAME:EST
DTSTART:20231105T060000
END:STANDARD
BEGIN:DAYLIGHT
TZOFFSETFROM:-0500
TZOFFSETTO:-0400
TZNAME:EDT
DTSTART:20240310T070000
END:DAYLIGHT
BEGIN:STANDARD
TZOFFSETFROM:-0400
TZOFFSETTO:-0500
TZNAME:EST
DTSTART:20241103T060000
END:STANDARD
END:VTIMEZONE
BEGIN:VEVENT
DTSTART;TZID=America/Toronto:20230315T190000
DTEND;TZID=America/Toronto:20230315T200000
DTSTAMP:20260425T124337
CREATED:20230309T141121Z
LAST-MODIFIED:20230310T184330Z
UID:12686-1678906800-1678910400@www.allinclusiveministries.org
SUMMARY:March 15: Gospel Reflections
DESCRIPTION:Reading for 4th Sunday of Lent John 9. 1-41\nJoin us to learn about the background and context of the Sunday readings with Gordon Davies\, D. Th.\, a biblical scholar and AIM member.  With other LGBT+ people and our allies\, discuss how the readings are important to you. All are welcome. \nJoin on your computer\, mobile app or room device \nClick here to join the meeting \nMeeting ID: 241 025 084 949\nPasscode: hUT36b \nDownload Teams | Join on the web \nOr call in (audio only) \n+1 647-794-1609\,\,840305109#
URL:https://www.allinclusiveministries.org/aim-event/march-15-gospel-reflection/
LOCATION:Online
CATEGORIES:Gospel Reflection
ATTACH;FMTTYPE=image/jpeg:https://www.allinclusiveministries.org/wp-content/uploads/2015/05/mercywindow.jpg
END:VEVENT
END:VCALENDAR