BEGIN:VCALENDAR
VERSION:2.0
PRODID:-//All Inclusive Ministries | A Group for Lesbian, Gay, Bisexual, and Transgender Catholics in Toronto, Canada - ECPv6.15.20//NONSGML v1.0//EN
CALSCALE:GREGORIAN
METHOD:PUBLISH
X-ORIGINAL-URL:https://www.allinclusiveministries.org
X-WR-CALDESC:Events for All Inclusive Ministries | A Group for Lesbian, Gay, Bisexual, and Transgender Catholics in Toronto, Canada
REFRESH-INTERVAL;VALUE=DURATION:PT1H
X-Robots-Tag:noindex
X-PUBLISHED-TTL:PT1H
BEGIN:VTIMEZONE
TZID:America/Toronto
BEGIN:DAYLIGHT
TZOFFSETFROM:-0500
TZOFFSETTO:-0400
TZNAME:EDT
DTSTART:20220313T070000
END:DAYLIGHT
BEGIN:STANDARD
TZOFFSETFROM:-0400
TZOFFSETTO:-0500
TZNAME:EST
DTSTART:20221106T060000
END:STANDARD
BEGIN:DAYLIGHT
TZOFFSETFROM:-0500
TZOFFSETTO:-0400
TZNAME:EDT
DTSTART:20230312T070000
END:DAYLIGHT
BEGIN:STANDARD
TZOFFSETFROM:-0400
TZOFFSETTO:-0500
TZNAME:EST
DTSTART:20231105T060000
END:STANDARD
BEGIN:DAYLIGHT
TZOFFSETFROM:-0500
TZOFFSETTO:-0400
TZNAME:EDT
DTSTART:20240310T070000
END:DAYLIGHT
BEGIN:STANDARD
TZOFFSETFROM:-0400
TZOFFSETTO:-0500
TZNAME:EST
DTSTART:20241103T060000
END:STANDARD
END:VTIMEZONE
BEGIN:VEVENT
DTSTART;TZID=America/Toronto:20230225T190000
DTEND;TZID=America/Toronto:20230225T200000
DTSTAMP:20260425T140509
CREATED:20230125T161616Z
LAST-MODIFIED:20230216T202456Z
UID:12476-1677351600-1677355200@www.allinclusiveministries.org
SUMMARY:February 25 - 4th Saturday of the Month Mass: February
DESCRIPTION:AIM hosts a monthly Mass where everyone can feel free to worship in a supportive environment. The AIM Monthly Mass will be at Our Lady Of Lourdes Church. \nAIM Offertory Collection\nA basket will be available for those who can and wish to contribute.\nJanuary collection plate: $145. Thank you. Without you\, none of this would be possible. \nPost-Mass Gathering\nDon’t miss our after mass gathering. It is a great opportunity to talk with each other.
URL:https://www.allinclusiveministries.org/aim-event/4th-saturday-of-the-month-mass-february-2/
LOCATION:Our Lady of Lourdes Parish\, 520 Sherbourne Street\, Toronto\, ON\, M4X 1K8
ATTACH;FMTTYPE=image/jpeg:https://www.allinclusiveministries.org/wp-content/uploads/2016/06/16.jpg
END:VEVENT
END:VCALENDAR